BEGIN:VCALENDAR
VERSION:2.0
PRODID:-//Sabre//Sabre VObject 4.5.8//EN
CALSCALE:GREGORIAN
BEGIN:VEVENT
UID:sabre-vobject-50466de4-a060-453f-be54-93ed29380652
DTSTAMP:20260424T113144Z
SUMMARY:feierliche Maiandacht mit den Erstkommunionkinder von Bernbach
DESCRIPTION:https://www2.bistum-augsburg.de/gottesdienste/feierliche-maiand
 acht-mit-den-erstkommunionkinder-von-bernbach_id1725127
DTSTART;TZID=Europe/Berlin:20260517T190000
DURATION:PT30M
LOCATION:St. Joahnnes Baptist\, Pfarrgasse 6\, 87651 Bernbach
END:VEVENT
END:VCALENDAR
