BEGIN:VCALENDAR
VERSION:2.0
PRODID:-//Sabre//Sabre VObject 4.5.8//EN
CALSCALE:GREGORIAN
BEGIN:VEVENT
UID:sabre-vobject-dafdbf69-62e4-4cef-91f7-aa091e257318
DTSTAMP:20260423T092641Z
SUMMARY:Laudes in St. Ulrich
DESCRIPTION:https://www2.bistum-augsburg.de/gottesdienste/laudes-in-st-ulri
 ch_id1725137
DTSTART;TZID=Europe/Berlin:20260429T080000
DURATION:PT30M
LOCATION:St. Ulrich
END:VEVENT
END:VCALENDAR
