BEGIN:VCALENDAR
VERSION:2.0
PRODID:-//Sabre//Sabre VObject 4.5.8//EN
CALSCALE:GREGORIAN
BEGIN:VEVENT
UID:sabre-vobject-6327391f-d2db-4c9c-a3b6-375ef995a06b
DTSTAMP:20260426T024109Z
SUMMARY:Abendmesse
DESCRIPTION:https://www2.bistum-augsburg.de/gottesdienste/abendmesse_id1725
 149
DTSTART;TZID=Europe/Berlin:20260521T180000
DURATION:PT30M
LOCATION:St. Martin
END:VEVENT
END:VCALENDAR
