BEGIN:VCALENDAR
VERSION:2.0
PRODID:-//Sabre//Sabre VObject 4.5.8//EN
CALSCALE:GREGORIAN
BEGIN:VEVENT
UID:sabre-vobject-e3c14f60-5684-4cf0-bef3-c2543e0c60d8
DTSTAMP:20260425T014812Z
SUMMARY:Taufe
DESCRIPTION:https://www2.bistum-augsburg.de/gottesdienste/taufe_id1725150
DTSTART;TZID=Europe/Berlin:20260523T150000
DURATION:PT30M
LOCATION:St. Martin
END:VEVENT
END:VCALENDAR
