BEGIN:VCALENDAR
VERSION:2.0
PRODID:-//Sabre//Sabre VObject 4.5.8//EN
CALSCALE:GREGORIAN
BEGIN:VEVENT
UID:sabre-vobject-af8c3d8d-594c-4e38-9dfd-9d7b4ed9e2e3
DTSTAMP:20260423T165905Z
SUMMARY:Abendmesse Silentium in Maria unterm Kreuz\, Meditationsraum
DESCRIPTION:https://www2.bistum-augsburg.de/gottesdienste/abendmesse-silent
 ium-in-maria-unterm-kreuz-meditationsraum_id1725154
DTSTART;TZID=Europe/Berlin:20260430T190000
DURATION:PT30M
LOCATION:St. Ulrich
END:VEVENT
END:VCALENDAR
