BEGIN:VCALENDAR
VERSION:2.0
PRODID:-//Sabre//Sabre VObject 4.5.8//EN
CALSCALE:GREGORIAN
BEGIN:VEVENT
UID:sabre-vobject-e80cde0e-3707-492f-b380-51edd43add9f
DTSTAMP:20260423T142532Z
SUMMARY:Lobpreis "Singt dem Herrn" mit eucharistischer Anbetung
DESCRIPTION:https://www2.bistum-augsburg.de/gottesdienste/lobpreis-singt-de
 m-herrn-mit-eucharistischer-anbetung_id1725165
DTSTART;TZID=Europe/Berlin:20260426T190000
DURATION:PT30M
LOCATION:St. Stephan
END:VEVENT
END:VCALENDAR
