BEGIN:VCALENDAR
VERSION:2.0
PRODID:-//Sabre//Sabre VObject 4.5.8//EN
CALSCALE:GREGORIAN
BEGIN:VEVENT
UID:sabre-vobject-e6362bee-cb75-4829-aab5-113e5a42c58e
DTSTAMP:20260423T205040Z
SUMMARY:Heilige Messe
DESCRIPTION:https://www2.bistum-augsburg.de/gottesdienste/heilige-messe_id1
 725182
DTSTART;TZID=Europe/Berlin:20260430T090000
DURATION:PT30M
LOCATION:Zu Unserer Lieben Frau\, Münsterpl. 1\, 86609 Donauwörth
END:VEVENT
END:VCALENDAR
