BEGIN:VCALENDAR
VERSION:2.0
PRODID:-//Sabre//Sabre VObject 4.5.8//EN
CALSCALE:GREGORIAN
BEGIN:VEVENT
UID:sabre-vobject-3e46c862-a9bb-437f-95e3-8403c7e5a688
DTSTAMP:20260424T030333Z
SUMMARY:Rosenkranz
DESCRIPTION:https://www2.bistum-augsburg.de/gottesdienste/rosenkranz_id1725
 184
DTSTART;TZID=Europe/Berlin:20260430T173000
DURATION:PT30M
LOCATION:Zu Unserer Lieben Frau\, Münsterpl. 1\, 86609 Donauwörth
END:VEVENT
END:VCALENDAR
