BEGIN:VCALENDAR
VERSION:2.0
PRODID:-//Sabre//Sabre VObject 4.5.8//EN
CALSCALE:GREGORIAN
BEGIN:VEVENT
UID:sabre-vobject-a7f64904-b0bb-4ba0-b626-b2f93255e81d
DTSTAMP:20260424T003634Z
SUMMARY:Sieben-Schmerzen-Rosenkranz
DESCRIPTION:https://www2.bistum-augsburg.de/gottesdienste/sieben-schmerzen-
 rosenkranz_id1725187
DTSTART;TZID=Europe/Berlin:20260501T080000
DURATION:PT30M
LOCATION:St. Peter und Paul\, Schwabenstraße 26\, 87640 Ebenhofen
END:VEVENT
END:VCALENDAR
