BEGIN:VCALENDAR
VERSION:2.0
PRODID:-//Sabre//Sabre VObject 4.5.8//EN
CALSCALE:GREGORIAN
BEGIN:VEVENT
UID:sabre-vobject-f2fa3fdd-c5df-46f3-8d16-fae7ad1e0db2
DTSTAMP:20260425T105812Z
SUMMARY:Wort-Gottes-Feier
DESCRIPTION:https://www2.bistum-augsburg.de/gottesdienste/wort-gottes-feier
 _id1725212
DTSTART;TZID=Europe/Berlin:20260429T083000
DURATION:PT30M
LOCATION:St. Georg
END:VEVENT
END:VCALENDAR
