BEGIN:VCALENDAR
VERSION:2.0
PRODID:-//Sabre//Sabre VObject 4.5.8//EN
CALSCALE:GREGORIAN
BEGIN:VEVENT
UID:sabre-vobject-1c2ab396-3a62-49fb-afd4-9bce55a50493
DTSTAMP:20260423T021606Z
SUMMARY:Danktag Erstkommunionkinder der Pfarreiengemeinschaft
DESCRIPTION:https://www2.bistum-augsburg.de/gottesdienste/danktag-erstkommu
 nionkinder-der-pfarreiengemeinschaft_id1725226
DTSTART;TZID=Europe/Berlin:20260427T083000
DURATION:PT30M
LOCATION:Mariä Heimsuchung
END:VEVENT
END:VCALENDAR
