BEGIN:VCALENDAR
VERSION:2.0
PRODID:-//Sabre//Sabre VObject 4.5.8//EN
CALSCALE:GREGORIAN
BEGIN:VEVENT
UID:sabre-vobject-a5f7c5bd-42c0-4234-a943-b03c5b984a7f
DTSTAMP:20260424T132513Z
SUMMARY:Vorabendmesse
DESCRIPTION:https://www2.bistum-augsburg.de/gottesdienste/vorabendmesse_id1
 725240
DTSTART;TZID=Europe/Berlin:20260509T190000
DURATION:PT30M
LOCATION:St. Martin\, Grimoldsriederstr. 6\, 86872 Scherstetten - Konradsho
 fen
END:VEVENT
END:VCALENDAR
