BEGIN:VCALENDAR
VERSION:2.0
PRODID:-//Sabre//Sabre VObject 4.5.8//EN
CALSCALE:GREGORIAN
BEGIN:VEVENT
UID:sabre-vobject-2a488ea9-b695-417a-8ff3-f7cc579ee641
DTSTAMP:20260425T105820Z
SUMMARY:Maiandacht - gestaltet vom Pfarrgemeinderat
DESCRIPTION:https://www2.bistum-augsburg.de/gottesdienste/maiandacht-gestal
 tet-vom-pfarrgemeinderat_id1725260
DTSTART;TZID=Europe/Berlin:20260501T180000
DURATION:PT30M
LOCATION:Maria Immaculata
END:VEVENT
END:VCALENDAR
