BEGIN:VCALENDAR
VERSION:2.0
PRODID:-//Sabre//Sabre VObject 4.5.8//EN
CALSCALE:GREGORIAN
BEGIN:VEVENT
UID:sabre-vobject-d5e9b2fd-1608-403c-88ca-f071c11a4f1b
DTSTAMP:20260425T153141Z
SUMMARY:Heilige Messe mit anschl. Fahrzeugsegnung
DESCRIPTION:https://www2.bistum-augsburg.de/gottesdienste/heilige-messe-mit
 -anschl-fahrzeugsegnung_id1725273
DTSTART;TZID=Europe/Berlin:20260501T100000
DURATION:PT30M
LOCATION:St. Margareta
END:VEVENT
END:VCALENDAR
