BEGIN:VCALENDAR
VERSION:2.0
PRODID:-//Sabre//Sabre VObject 4.5.8//EN
CALSCALE:GREGORIAN
BEGIN:VEVENT
UID:sabre-vobject-5e04a85a-0482-477d-8e93-95882eae3030
DTSTAMP:20260425T104706Z
SUMMARY:Rosenkranz
DESCRIPTION:https://www2.bistum-augsburg.de/gottesdienste/rosenkranz_id1725
 291
DTSTART;TZID=Europe/Berlin:20260503T133000
DURATION:PT30M
LOCATION:St. Pankratius
END:VEVENT
END:VCALENDAR
