BEGIN:VCALENDAR
VERSION:2.0
PRODID:-//Sabre//Sabre VObject 4.5.8//EN
CALSCALE:GREGORIAN
BEGIN:VEVENT
UID:sabre-vobject-38626564-46e2-405b-93b5-ec60a160f792
DTSTAMP:20260425T203908Z
SUMMARY:Eucharistiefeier der Charismatischen Erneuerung  (anschließend Seg
 nungsgebet)
DESCRIPTION:https://www2.bistum-augsburg.de/gottesdienste/eucharistiefeier-
 der-charismatischen-erneuerung-anschliessend-segnungsgebet_id1725294
DTSTART;TZID=Europe/Berlin:20260515T190000
DURATION:PT30M
LOCATION:Zwölf Apostel
END:VEVENT
END:VCALENDAR
