BEGIN:VCALENDAR
VERSION:2.0
PRODID:-//Sabre//Sabre VObject 4.5.8//EN
CALSCALE:GREGORIAN
BEGIN:VEVENT
UID:sabre-vobject-4149233c-592c-496b-bb40-b04fabccbfaf
DTSTAMP:20260424T182212Z
SUMMARY:Festgottesdienst
DESCRIPTION:https://www2.bistum-augsburg.de/gottesdienste/festgottesdienst_
 id1725295
DTSTART;TZID=Europe/Berlin:20260501T090000
DURATION:PT30M
LOCATION:Pfarrkirche Mariä Himmelfahrt\, Kirchplatz 1\, 89257 Illertissen
END:VEVENT
END:VCALENDAR
