BEGIN:VCALENDAR
VERSION:2.0
PRODID:-//Sabre//Sabre VObject 4.5.8//EN
CALSCALE:GREGORIAN
BEGIN:VEVENT
UID:sabre-vobject-d9b61223-e62c-4bee-8129-d4e8b08fe830
DTSTAMP:20260424T175629Z
SUMMARY:Heilige Messe  -  9:00 Uhr Rosenkranz
DESCRIPTION:https://www2.bistum-augsburg.de/gottesdienste/heilige-messe-9-0
 0-uhr-rosenkranz_id1725306
DTSTART;TZID=Europe/Berlin:20260510T093000
DURATION:PT30M
LOCATION:Mariä Himmelfahrt\, Portnerstr. 2\, 86356 Neusäß-Täfertingen
END:VEVENT
END:VCALENDAR
