BEGIN:VCALENDAR
VERSION:2.0
PRODID:-//Sabre//Sabre VObject 4.5.8//EN
CALSCALE:GREGORIAN
BEGIN:VEVENT
UID:sabre-vobject-f434eacb-2085-4428-aefb-ea15666c5322
DTSTAMP:20260425T200548Z
SUMMARY:Bittgang nach Westerringen
DESCRIPTION:https://www2.bistum-augsburg.de/gottesdienste/bittgang-nach-wes
 terringen_id1725327
DTSTART;TZID=Europe/Berlin:20260512T190000
DURATION:PT30M
LOCATION:St. Gallus
END:VEVENT
END:VCALENDAR
