BEGIN:VCALENDAR
VERSION:2.0
PRODID:-//Sabre//Sabre VObject 4.5.8//EN
CALSCALE:GREGORIAN
BEGIN:VEVENT
UID:sabre-vobject-860a43a7-3dfd-4f30-8889-1d9d91857b4c
DTSTAMP:20260424T083827Z
SUMMARY:Festamt\, anschl. Flurumgang
DESCRIPTION:https://www2.bistum-augsburg.de/gottesdienste/festamt-anschl-fl
 urumgang_id1725329
DTSTART;TZID=Europe/Berlin:20260514T083000
DURATION:PT30M
LOCATION:St. Gallus
END:VEVENT
END:VCALENDAR
