BEGIN:VCALENDAR
VERSION:2.0
PRODID:-//Sabre//Sabre VObject 4.5.8//EN
CALSCALE:GREGORIAN
BEGIN:VEVENT
UID:sabre-vobject-35c8479b-ac87-4315-9a41-5ec0c0f355f1
DTSTAMP:20260423T005203Z
SUMMARY:Hl. Messe zum Herz-Jesu-Freitag\, Lobpreisgottesdienst\, anschl. An
 betung
DESCRIPTION:https://www2.bistum-augsburg.de/gottesdienste/hl-messe-zum-herz
 -jesu-freitag-lobpreisgottesdienst-anschl-anbetung_id1725334
DTSTART;TZID=Europe/Berlin:20260501T190000
DURATION:PT30M
LOCATION:St. Benedikt Basilica minor
END:VEVENT
END:VCALENDAR
