BEGIN:VCALENDAR
VERSION:2.0
PRODID:-//Sabre//Sabre VObject 4.5.8//EN
CALSCALE:GREGORIAN
BEGIN:VEVENT
UID:sabre-vobject-ba569e2b-ffc7-4ef0-b69a-6d1f5d2c7c3d
DTSTAMP:20260425T234055Z
SUMMARY:- 11:30 Beichtgelegenheit/Beichtgespräch (Sprechzimmer)
DESCRIPTION:https://www2.bistum-augsburg.de/gottesdienste/11-30-beichtgeleg
 enheit-beichtgespraech-sprechzimmer_id1725336
DTSTART;TZID=Europe/Berlin:20260502T100000
DURATION:PT30M
LOCATION:St. Benedikt Basilica minor
END:VEVENT
END:VCALENDAR
