BEGIN:VCALENDAR
VERSION:2.0
PRODID:-//Sabre//Sabre VObject 4.5.8//EN
CALSCALE:GREGORIAN
BEGIN:VEVENT
UID:sabre-vobject-3a55935e-0124-4e15-94c3-536a748802b0
DTSTAMP:20260423T124940Z
SUMMARY:- 16:30 Beichtgelegenheit/Beichtgespräch (Sprechzimmer)
DESCRIPTION:https://www2.bistum-augsburg.de/gottesdienste/16-30-beichtgeleg
 enheit-beichtgespraech-sprechzimmer_id1725337
DTSTART;TZID=Europe/Berlin:20260502T150000
DURATION:PT30M
LOCATION:St. Benedikt Basilica minor
END:VEVENT
END:VCALENDAR
