BEGIN:VCALENDAR
VERSION:2.0
PRODID:-//Sabre//Sabre VObject 4.5.8//EN
CALSCALE:GREGORIAN
BEGIN:VEVENT
UID:sabre-vobject-27382d15-e8f5-409d-8efd-1644fafe6950
DTSTAMP:20260422T162426Z
SUMMARY:ERSTKOMMUNION
DESCRIPTION:https://www2.bistum-augsburg.de/gottesdienste/erstkommunion_id1
 725358
DTSTART;TZID=Europe/Berlin:20260503T100000
DURATION:PT30M
LOCATION:St. Nikolaus
END:VEVENT
END:VCALENDAR
