BEGIN:VCALENDAR
VERSION:2.0
PRODID:-//Sabre//Sabre VObject 4.5.8//EN
CALSCALE:GREGORIAN
BEGIN:VEVENT
UID:sabre-vobject-9ba3cd6b-31d5-4e06-ae4c-1cb684002ed2
DTSTAMP:20260424T111529Z
SUMMARY:Heilige Messe gemeinsam mit der Pfarrei Thomas Morus am Feldkreuz i
 n Hammel
DESCRIPTION:https://www2.bistum-augsburg.de/gottesdienste/heilige-messe-gem
 einsam-mit-der-pfarrei-thomas-morus-am-feldkreuz-in-hammel_id1725371
DTSTART;TZID=Europe/Berlin:20260514T093000
DURATION:PT30M
LOCATION:St. Vitus
END:VEVENT
END:VCALENDAR
