BEGIN:VCALENDAR
VERSION:2.0
PRODID:-//Sabre//Sabre VObject 4.5.8//EN
CALSCALE:GREGORIAN
BEGIN:VEVENT
UID:sabre-vobject-026c94a3-0d13-48da-997e-f76c22f28ff5
DTSTAMP:20260422T124536Z
SUMMARY:Heilige Messe
DESCRIPTION:https://www2.bistum-augsburg.de/gottesdienste/heilige-messe_id1
 725374
DTSTART;TZID=Europe/Berlin:20260430T190000
DURATION:PT30M
LOCATION:St. Mauritius\, Kirchstraße 13\, 89290 Buch
END:VEVENT
END:VCALENDAR
