BEGIN:VCALENDAR
VERSION:2.0
PRODID:-//Sabre//Sabre VObject 4.5.8//EN
CALSCALE:GREGORIAN
BEGIN:VEVENT
UID:sabre-vobject-37335ef5-c695-4767-8e3f-526f745fdb7e
DTSTAMP:20260425T121635Z
SUMMARY:Heilige Messe im Altenheim
DESCRIPTION:https://www2.bistum-augsburg.de/gottesdienste/heilige-messe-im-
 altenheim_id1725377
DTSTART;TZID=Europe/Berlin:20260428T093000
DURATION:PT30M
LOCATION:St. Margareta
END:VEVENT
END:VCALENDAR
