BEGIN:VCALENDAR
VERSION:2.0
PRODID:-//Sabre//Sabre VObject 4.5.8//EN
CALSCALE:GREGORIAN
BEGIN:VEVENT
UID:sabre-vobject-fd4f135c-7d18-49c4-9359-bd13969ac4be
DTSTAMP:20260424T174708Z
SUMMARY:Rosenkranz
DESCRIPTION:https://www2.bistum-augsburg.de/gottesdienste/rosenkranz_id1725
 380
DTSTART;TZID=Europe/Berlin:20260430T085500
DURATION:PT30M
LOCATION:St. Margareta
END:VEVENT
END:VCALENDAR
