BEGIN:VCALENDAR
VERSION:2.0
PRODID:-//Sabre//Sabre VObject 4.5.8//EN
CALSCALE:GREGORIAN
BEGIN:VEVENT
UID:sabre-vobject-f045530d-fd50-4c67-acff-bdf71ed17eab
DTSTAMP:20260425T152926Z
SUMMARY:Sonntagsgottesdienst
DESCRIPTION:https://www2.bistum-augsburg.de/gottesdienste/sonntagsgottesdie
 nst_id1725399
DTSTART;TZID=Europe/Berlin:20260503T093000
DURATION:PT30M
LOCATION:St. Vitus
END:VEVENT
END:VCALENDAR
