BEGIN:VCALENDAR
VERSION:2.0
PRODID:-//Sabre//Sabre VObject 4.5.8//EN
CALSCALE:GREGORIAN
BEGIN:VEVENT
UID:sabre-vobject-395fbc9b-a373-4796-b739-440f1231edd4
DTSTAMP:20260422T132423Z
SUMMARY:Messfeier
DESCRIPTION:https://www2.bistum-augsburg.de/gottesdienste/messfeier_id17254
 14
DTSTART;TZID=Europe/Berlin:20260506T190000
DURATION:PT30M
LOCATION:St. Johannes Baptist\, Langerringer Str. 1\, 86853 Langerringen - 
 Gennach
END:VEVENT
END:VCALENDAR
