BEGIN:VCALENDAR
VERSION:2.0
PRODID:-//Sabre//Sabre VObject 4.5.8//EN
CALSCALE:GREGORIAN
BEGIN:VEVENT
UID:sabre-vobject-b450d57d-1d5b-4c80-a143-8473a98b7839
DTSTAMP:20260424T180947Z
SUMMARY:Erstkommunionfeier\, Heilige Messe für die verst. Angehörigen der
  Erstkommunionkinder                   \n
DESCRIPTION:https://www2.bistum-augsburg.de/gottesdienste/erstkommunionfeie
 r-heilige-messe-fuer-die-verst-angehoerigen-der-erstkommunionkinder_id1725
 434
DTSTART;TZID=Europe/Berlin:20260426T100000
DURATION:PT30M
LOCATION:St. Valentin
END:VEVENT
END:VCALENDAR
