BEGIN:VCALENDAR
VERSION:2.0
PRODID:-//Sabre//Sabre VObject 4.5.8//EN
CALSCALE:GREGORIAN
BEGIN:VEVENT
UID:sabre-vobject-54aa22ca-af58-48c8-b362-784d7ddef096
DTSTAMP:20260424T020206Z
SUMMARY:Rosenkranz
DESCRIPTION:https://www2.bistum-augsburg.de/gottesdienste/rosenkranz_id1725
 437
DTSTART;TZID=Europe/Berlin:20260501T163000
DURATION:PT30M
LOCATION:St. Valentin
END:VEVENT
END:VCALENDAR
