BEGIN:VCALENDAR
VERSION:2.0
PRODID:-//Sabre//Sabre VObject 4.5.8//EN
CALSCALE:GREGORIAN
BEGIN:VEVENT
UID:sabre-vobject-30c191cd-7654-4c60-85db-39a4174498fc
DTSTAMP:20260424T013553Z
SUMMARY:Taufe von Ida Josefa Wolf
DESCRIPTION:https://www2.bistum-augsburg.de/gottesdienste/taufe-von-ida-jos
 efa-wolf_id1725438
DTSTART;TZID=Europe/Berlin:20260425T133000
DURATION:PT30M
LOCATION:St. Nikolaus
END:VEVENT
END:VCALENDAR
