BEGIN:VCALENDAR
VERSION:2.0
PRODID:-//Sabre//Sabre VObject 4.5.8//EN
CALSCALE:GREGORIAN
BEGIN:VEVENT
UID:sabre-vobject-50b8c8c9-d65b-439d-aab1-e9d80ef0779f
DTSTAMP:20260424T234856Z
SUMMARY:Sonntgl. Vorabendmesse
DESCRIPTION:https://www2.bistum-augsburg.de/gottesdienste/sonntgl-vorabendm
 esse_id1725443
DTSTART;TZID=Europe/Berlin:20260425T183000
DURATION:PT30M
LOCATION:Maria Königin
END:VEVENT
END:VCALENDAR
