BEGIN:VCALENDAR
VERSION:2.0
PRODID:-//Sabre//Sabre VObject 4.5.8//EN
CALSCALE:GREGORIAN
BEGIN:VEVENT
UID:sabre-vobject-b2ebd987-9ae5-41aa-843f-b540025440c7
DTSTAMP:20260423T152758Z
SUMMARY:Vorabendmesse\; musikalisch gestaltet durch den Jugendchor aus Kön
 iggrätz
DESCRIPTION:https://www2.bistum-augsburg.de/gottesdienste/vorabendmesse-mus
 ikalisch-gestaltet-durch-den-jugendchor-aus-koeniggraetz_id1725465
DTSTART;TZID=Europe/Berlin:20260502T180000
DURATION:PT30M
LOCATION:St. Ulrich und Afra
END:VEVENT
END:VCALENDAR
