BEGIN:VCALENDAR
VERSION:2.0
PRODID:-//Sabre//Sabre VObject 4.5.8//EN
CALSCALE:GREGORIAN
BEGIN:VEVENT
UID:sabre-vobject-8175ac08-e5c4-4077-b2b2-a0300ac93886
DTSTAMP:20260424T194437Z
SUMMARY:Heilige Messe Verkauf von fair gehandelten Rosen zum Muttertag
DESCRIPTION:https://www2.bistum-augsburg.de/gottesdienste/heilige-messe-ver
 kauf-von-fair-gehandelten-rosen-zum-muttertag_id1725470
DTSTART;TZID=Europe/Berlin:20260510T093000
DURATION:PT30M
LOCATION:St. Nikolaus v. Flüe
END:VEVENT
END:VCALENDAR
