BEGIN:VCALENDAR
VERSION:2.0
PRODID:-//Sabre//Sabre VObject 4.5.8//EN
CALSCALE:GREGORIAN
BEGIN:VEVENT
UID:sabre-vobject-7aa09889-ef85-4e00-a575-74743b278f50
DTSTAMP:20260424T110606Z
SUMMARY:Messfeier im Altenheim
DESCRIPTION:https://www2.bistum-augsburg.de/gottesdienste/messfeier-im-alte
 nheim_id1725483
DTSTART;TZID=Europe/Berlin:20260508T153000
DURATION:PT30M
LOCATION:St. Gallus
END:VEVENT
END:VCALENDAR
