BEGIN:VCALENDAR
VERSION:2.0
PRODID:-//Sabre//Sabre VObject 4.5.8//EN
CALSCALE:GREGORIAN
BEGIN:VEVENT
UID:sabre-vobject-bd041a0d-47b4-4f5b-a40c-404790513af0
DTSTAMP:20260425T170415Z
SUMMARY:Heilige Messe anschl. Maiandacht - 17:30 Uhr Rosenkranz
DESCRIPTION:https://www2.bistum-augsburg.de/gottesdienste/heilige-messe-ans
 chl-maiandacht-17-30-uhr-rosenkranz_id1725492
DTSTART;TZID=Europe/Berlin:20260512T180000
DURATION:PT30M
LOCATION:St. Nikolaus v. Flüe
END:VEVENT
END:VCALENDAR
