BEGIN:VCALENDAR
VERSION:2.0
PRODID:-//Sabre//Sabre VObject 4.5.8//EN
CALSCALE:GREGORIAN
BEGIN:VEVENT
UID:sabre-vobject-ee8704ed-12f2-47f4-b7ef-087acc396105
DTSTAMP:20260424T063226Z
SUMMARY:Maiandacht - musikalische Umrahmung mit den Vehenharfen
DESCRIPTION:https://www2.bistum-augsburg.de/gottesdienste/maiandacht-musika
 lische-umrahmung-mit-den-vehenharfen_id1725529
DTSTART;TZID=Europe/Berlin:20260517T193000
DURATION:PT30M
LOCATION:St. Oswald
END:VEVENT
END:VCALENDAR
