BEGIN:VCALENDAR
VERSION:2.0
PRODID:-//Sabre//Sabre VObject 4.5.8//EN
CALSCALE:GREGORIAN
BEGIN:VEVENT
UID:sabre-vobject-ab5b564f-d946-4c6f-bdea-7735c3d85766
DTSTAMP:20260424T030056Z
SUMMARY:Rosenkranz
DESCRIPTION:https://www2.bistum-augsburg.de/gottesdienste/rosenkranz_id1725
 535
DTSTART;TZID=Europe/Berlin:20260520T163000
DURATION:PT30M
LOCATION:St. Oswald
END:VEVENT
END:VCALENDAR
