BEGIN:VCALENDAR
VERSION:2.0
PRODID:-//Sabre//Sabre VObject 4.5.8//EN
CALSCALE:GREGORIAN
BEGIN:VEVENT
UID:sabre-vobject-91d94ef3-37b2-4cdb-8eea-01c901c087d2
DTSTAMP:20260424T112804Z
SUMMARY:Senioren - Mittagstisch beim " Felder " ( Anmeldung bei Sylvia Merk
  Tel. 08377 / 1584 )
DESCRIPTION:https://www2.bistum-augsburg.de/gottesdienste/senioren-mittagst
 isch-beim-felder-anmeldung-bei-sylvia-merk-tel-08377-1584_id1725542
DTSTART;TZID=Europe/Berlin:20260512T113000
DURATION:PT30M
LOCATION:St. Nikolaus\, Kirchenweg 4\, 87647 Unterthingau
END:VEVENT
END:VCALENDAR
