BEGIN:VCALENDAR
VERSION:2.0
PRODID:-//Sabre//Sabre VObject 4.5.8//EN
CALSCALE:GREGORIAN
BEGIN:VEVENT
UID:sabre-vobject-05abcaac-ec23-46ed-8df2-98fd0f0fc715
DTSTAMP:20260422T180801Z
SUMMARY:Vorabendmesse
DESCRIPTION:https://www2.bistum-augsburg.de/gottesdienste/vorabendmesse_id1
 725548
DTSTART;TZID=Europe/Berlin:20260502T153000
DURATION:PT30M
LOCATION:St. Anton
END:VEVENT
END:VCALENDAR
