BEGIN:VCALENDAR
VERSION:2.0
PRODID:-//Sabre//Sabre VObject 4.5.8//EN
CALSCALE:GREGORIAN
BEGIN:VEVENT
UID:sabre-vobject-b66db883-3ad1-49ae-acfb-6c0ce936741e
DTSTAMP:20260423T210142Z
SUMMARY:Rosenkranz
DESCRIPTION:https://www2.bistum-augsburg.de/gottesdienste/rosenkranz_id1725
 581
DTSTART;TZID=Europe/Berlin:20260504T163000
DURATION:PT30M
LOCATION:St. Oswald
END:VEVENT
END:VCALENDAR
