BEGIN:VCALENDAR
VERSION:2.0
PRODID:-//Sabre//Sabre VObject 4.5.8//EN
CALSCALE:GREGORIAN
BEGIN:VEVENT
UID:sabre-vobject-0f883efd-0404-401c-b143-368333b4fef4
DTSTAMP:20260425T182013Z
SUMMARY:Rosenkranz
DESCRIPTION:https://www2.bistum-augsburg.de/gottesdienste/rosenkranz_id1725
 582
DTSTART;TZID=Europe/Berlin:20260505T163000
DURATION:PT30M
LOCATION:St. Oswald
END:VEVENT
END:VCALENDAR
