BEGIN:VCALENDAR
VERSION:2.0
PRODID:-//Sabre//Sabre VObject 4.5.8//EN
CALSCALE:GREGORIAN
BEGIN:VEVENT
UID:sabre-vobject-1e9dadf6-368e-4e5f-be02-ee841f61eb10
DTSTAMP:20260424T111654Z
SUMMARY:Rosenkranz
DESCRIPTION:https://www2.bistum-augsburg.de/gottesdienste/rosenkranz_id1725
 584
DTSTART;TZID=Europe/Berlin:20260507T163000
DURATION:PT30M
LOCATION:St. Oswald
END:VEVENT
END:VCALENDAR
