BEGIN:VCALENDAR
VERSION:2.0
PRODID:-//Sabre//Sabre VObject 4.5.8//EN
CALSCALE:GREGORIAN
BEGIN:VEVENT
UID:sabre-vobject-789f5a68-e0c5-4b8f-9a34-065d574fb060
DTSTAMP:20260425T210043Z
SUMMARY:Eucharistiefeier - Herz Jesu Freitag - Anschließend Aussetzung und
  Eucharistische Anbetung
DESCRIPTION:https://www2.bistum-augsburg.de/gottesdienste/eucharistiefeier-
 herz-jesu-freitag-anschliessend-aussetzung-und-eucharistische-anbetung_id1
 725588
DTSTART;TZID=Europe/Berlin:20260508T180000
DURATION:PT30M
LOCATION:St. Oswald
END:VEVENT
END:VCALENDAR
