BEGIN:VCALENDAR
VERSION:2.0
PRODID:-//Sabre//Sabre VObject 4.5.8//EN
CALSCALE:GREGORIAN
BEGIN:VEVENT
UID:sabre-vobject-8c5d04b8-e773-488d-8a6b-df93736a945b
DTSTAMP:20260425T223149Z
SUMMARY:Rosenkranz u. Beichtgelegenheit
DESCRIPTION:https://www2.bistum-augsburg.de/gottesdienste/rosenkranz-u-beic
 htgelegenheit_id1725604
DTSTART;TZID=Europe/Berlin:20260509T180000
DURATION:PT30M
LOCATION:Zum Guten Hirten
END:VEVENT
END:VCALENDAR
