BEGIN:VCALENDAR
VERSION:2.0
PRODID:-//Sabre//Sabre VObject 4.5.8//EN
CALSCALE:GREGORIAN
BEGIN:VEVENT
UID:sabre-vobject-b954de20-5cd4-4124-b1df-5920db80134e
DTSTAMP:20260424T000329Z
SUMMARY:Maiandacht und Beichtgelegenheit
DESCRIPTION:https://www2.bistum-augsburg.de/gottesdienste/maiandacht-und-be
 ichtgelegenheit_id1725612
DTSTART;TZID=Europe/Berlin:20260505T173000
DURATION:PT30M
LOCATION:St. Ulrich und Afra
END:VEVENT
END:VCALENDAR
