BEGIN:VCALENDAR
VERSION:2.0
PRODID:-//Sabre//Sabre VObject 4.5.8//EN
CALSCALE:GREGORIAN
BEGIN:VEVENT
UID:sabre-vobject-619e7b33-0659-4cde-8d40-0d0c5ecf92fd
DTSTAMP:20260425T122828Z
SUMMARY:Hl. Messe in St. Margaret
DESCRIPTION:https://www2.bistum-augsburg.de/gottesdienste/hl-messe-in-st-ma
 rgaret_id1725618
DTSTART;TZID=Europe/Berlin:20260506T180000
DURATION:PT30M
LOCATION:St. Ulrich und Afra
END:VEVENT
END:VCALENDAR
