BEGIN:VCALENDAR
VERSION:2.0
PRODID:-//Sabre//Sabre VObject 4.5.8//EN
CALSCALE:GREGORIAN
BEGIN:VEVENT
UID:sabre-vobject-7ebae9d4-e14a-49c7-82ca-479771c2716b
DTSTAMP:20260425T012302Z
SUMMARY:Maiandacht - musikalische Mitgestaltung durch den Chor
DESCRIPTION:https://www2.bistum-augsburg.de/gottesdienste/maiandacht-musika
 lische-mitgestaltung-durch-den-chor_id1725620
DTSTART;TZID=Europe/Berlin:20260510T193000
DURATION:PT30M
LOCATION:St. Stephan\, Kirchberg 4\, 87647 Oberthingau
END:VEVENT
END:VCALENDAR
